BEGIN:VCALENDAR
VERSION:2.0
PRODID:-//Tukios.com/
BEGIN:VEVENT
UID:91c5098f-ee36-4243-8cbf-57c2479c6f0e@www.baileyfuneralhomeinc.com
DTSTAMP:20260425T184649Z
DTSTART:20260426T220000Z
DTEND:20260427T020000Z
SUMMARY:Visitation
DESCRIPTION:
URL:https://www.baileyfuneralhomeinc.com/obituaries/sandralea-sexton
LOCATION:Bailey Funeral Home Chapel 112 Elkhorn Street  Elkhorn City KY 
	41522
GEO:37.3060795;-82.3545248
END:VEVENT
END:VCALENDAR