BEGIN:VCALENDAR
VERSION:2.0
PRODID:-//Tukios.com/
BEGIN:VEVENT
UID:27821956-6eda-4502-be0c-397182825f25@www.baileyfuneralhomeinc.com
DTSTAMP:20260425T185021Z
DTSTART:20260427T180000Z
DTEND:20260427T190000Z
SUMMARY:Funeral Service
DESCRIPTION:
URL:https://www.baileyfuneralhomeinc.com/obituaries/sandralea-sexton
LOCATION:Bailey Funeral Home Chapel 112 Elkhorn Street  Elkhorn City KY 
	41522
GEO:37.3060795;-82.3545248
END:VEVENT
END:VCALENDAR