BEGIN:VCALENDAR
VERSION:2.0
PRODID:-//Tukios.com/
BEGIN:VEVENT
UID:af79c0b1-253a-44de-a855-95bd3a7535ca@www.baileyfuneralhomeinc.com
DTSTAMP:20260425T185102Z
DTSTART:20260425T220000Z
DTEND:20260426T020000Z
SUMMARY:Visitation
DESCRIPTION:
URL:https://www.baileyfuneralhomeinc.com/obituaries/sandralea-sexton
LOCATION:Bailey Funeral Home Chapel 112 Elkhorn Street  Elkhorn City KY 
	41522
GEO:37.3060795;-82.3545248
END:VEVENT
END:VCALENDAR