BEGIN:VCALENDAR
VERSION:2.0
PRODID:-//Tukios.com/
BEGIN:VEVENT
UID:40821773-41aa-43a4-9e94-bc03245aa161@www.baileyfuneralhomeinc.com
DTSTAMP:20260422T225844Z
DTSTART:20260425T180000Z
DTEND:20260425T190000Z
SUMMARY:Funeral Service
DESCRIPTION:The funeral will be conducted at 2 PM from the Bailey Funeral 
	Home Chapel and Burial will follow at the Sanders Cemetery, Ashcamp KY
URL:https://www.baileyfuneralhomeinc.com/obituaries/mose-sanders
LOCATION: 112 E Elkhorn St.  Elkhorn City KY 41522
GEO:37.3060795;-82.3545248
END:VEVENT
END:VCALENDAR